BEGIN:VCALENDAR
VERSION:2.0
PRODID:-//Vhpcanada - ECPv6.15.20//NONSGML v1.0//EN
CALSCALE:GREGORIAN
METHOD:PUBLISH
X-WR-CALNAME:Vhpcanada
X-ORIGINAL-URL:https://vhpcanada.ca
X-WR-CALDESC:Events for Vhpcanada
REFRESH-INTERVAL;VALUE=DURATION:PT1H
X-Robots-Tag:noindex
X-PUBLISHED-TTL:PT1H
BEGIN:VTIMEZONE
TZID:UTC
BEGIN:STANDARD
TZOFFSETFROM:+0000
TZOFFSETTO:+0000
TZNAME:UTC
DTSTART:20240101T000000
END:STANDARD
END:VTIMEZONE
BEGIN:VEVENT
DTSTART;TZID=UTC:20250205T080000
DTEND;TZID=UTC:20250205T170000
DTSTAMP:20260423T192322
CREATED:20250205T061302Z
LAST-MODIFIED:20260323T043203Z
UID:1918-1738742400-1738774800@vhpcanada.ca
SUMMARY:VHP Canada launches Aarti competition to celebrate the start of Hindu Heritage Month in the country.
DESCRIPTION:Please click here to visit Conference Dossiers - 2026\n					\n					\n				\n								\n				\n					\n		\n					\n		\n				\n						\n					\n			\n						\n				\n									Hindu Conference 2026 on Jun\, 06\, 2026. *Register Now!!
URL:https://vhpcanada.ca/event/vhp-canada-launches-aarti-competition-to-celebrate-the-start-of-hindu-heritage-month-in-the-country/
ATTACH;FMTTYPE=image/jpeg:https://vhpcanada.ca/wp-content/uploads/2025/02/aarti-competition-1-1200x675-1.jpeg
END:VEVENT
END:VCALENDAR